BEGIN:VCALENDAR
VERSION:2.0
PRODID:-//eventon.com NONSGML v1.0//EN
CALSCALE:GREGORIAN
METHOD:PUBLISH
BEGIN:VEVENT
UID:69e8b6ec92753
DTSTAMP:20260422T135420
DTSTART:20190226
DTEND:20190322
TZID:UTC
LOCATION:
SUMMARY:Veszely '70_'19
DESCRIPTION:Veszely Ferenc 1968-ban végzett a Magyar Képzőművészeti Főiskolán\,  ahol Barcsay Jenő\,  Kádár György és Konecsni György voltak a mesterei. Berlinben\,  Kairóban és Londonban járt tanulmányúton. A Makói Grafikai Műhely alapító tagja. 1986–1993 között a Budavár Alkotóközösség művészeti vezetője\,  tizenhárom évig a Magyar Iparművészeti Főiskola óraadó rajztanára\,  illetve az előkészítő tanfolyam[..]\nhttps://hegyvidekgaleria.hu/events/veszely-70_19/
URL:https://hegyvidekgaleria.hu/events/veszely-70_19/
END:VEVENT
END:VCALENDAR