BEGIN:VCALENDAR
VERSION:2.0
PRODID:-//eventon.com NONSGML v1.0//EN
CALSCALE:GREGORIAN
METHOD:PUBLISH
BEGIN:VEVENT
UID:69e4daf1c02a8
DTSTAMP:20260419T153857
DTSTART:20190313T180000Z
DTEND:20190313T193000Z
TZID:UTC
LOCATION:
SUMMARY:A szecesszió városai V.
DESCRIPTION:Építészeti előadás-sorozatunk következő állomásán Prága kerül bemutatásra\,  ahol a szecesszió és a jugendstil\,  bár merőben más a két stílus\,  kedvesen és arányosan keveredik. A természeti környezet mellett a szép paloták\,  szállók és villák teszik hangulatossá a cseh fővárost. Prágai szecesszió Teltház\nhttps://hegyvidekgaleria.hu/events/a-szecesszio-varosai-v/
URL:https://hegyvidekgaleria.hu/events/a-szecesszio-varosai-v/
END:VEVENT
END:VCALENDAR