BEGIN:VCALENDAR
VERSION:2.0
PRODID:-//eventon.com NONSGML v1.0//EN
CALSCALE:GREGORIAN
METHOD:PUBLISH
BEGIN:VEVENT
UID:69e5f46c61185
DTSTAMP:20260420T113956
DTSTART:20190328T180000Z
DTEND:20190328T190000Z
TZID:UTC
LOCATION:
SUMMARY:Előadás Szőnyi István festőművészről
DESCRIPTION:Szőnyi István festőművész feleségével\,  Bartóky Melindával 1924-ben költözött Zebegénybe. A Dunakanyarban apósa\,  Bartóky József házában és kertjében megtalálta azt az autentikus helyet\,  ahol festészete kiteljesedhetett. Tartózkodó\,  távolságtartó személyisége mélyebb összefüggéseket keresett a tájban. Háza kertje\,  sziget volt\,  ahol rendszereken\,  a világháború kataklizmáján átívelve megvalósult a harmonikus élet teljessége és megszületett[..]\nhttps://hegyvidekgaleria.hu/events/eloadas-szonyi-istvan-festomuveszrol/
URL:https://hegyvidekgaleria.hu/events/eloadas-szonyi-istvan-festomuveszrol/
END:VEVENT
END:VCALENDAR