BEGIN:VCALENDAR
VERSION:2.0
PRODID:-//eventon.com NONSGML v1.0//EN
CALSCALE:GREGORIAN
METHOD:PUBLISH
BEGIN:VEVENT
UID:69ea6cadbb29a
DTSTAMP:20260423T210205
DTSTART:20191009T180000Z
DTEND:20191009T200000Z
TZID:UTC
LOCATION:
SUMMARY:Hegyvidéki kortárs építészet II.
DESCRIPTION:Előadás-sorozat az Építészet Hónapja alkalmából Az Építészek Nemzetközi Egyesülete (UIA) 1986-ban hozta létre az Építészet Világnapját\,  melyet minden év október első hétfőjén ünneplünk. Az október így lett az építészet hónapja\,  amikor számos szakmai téma kerül előtérbe\,  és különböző építészeti programok várják az érdeklődőket. A Budapesti Városvédő Egyesület XII. kerületi csoportja[..]\nhttps://hegyvidekgaleria.hu/events/1540/
URL:https://hegyvidekgaleria.hu/events/1540/
END:VEVENT
END:VCALENDAR