BEGIN:VCALENDAR
VERSION:2.0
PRODID:-//eventon.com NONSGML v1.0//EN
CALSCALE:GREGORIAN
METHOD:PUBLISH
BEGIN:VEVENT
UID:69e5f5fa70d2b
DTSTAMP:20260420T114634
DTSTART:20191112T180000Z
DTEND:20191112T190000Z
TZID:UTC
LOCATION:
SUMMARY:Előadás Aba-Novák Vilmos festőművészről
DESCRIPTION:Képvetítéssel kísért előadás Aba-Novák Vilmos (1894–1941) festőművész születésének 125. évfordulója alkalmából Aba-Novák Vilmos személye már életében is éles polémiát váltott ki\,  különösen köztéri alkotásai kerültek viták kereszttüzébe. Halála után egészen a levakolásig jutott műveinek utóélete. Ennek ellenére nagy közönségkedvenc\,  árverések sztárja\,  hamisítók állandó céltáblája. Neve és életműve halála után hetvennyolc[..]\nhttps://hegyvidekgaleria.hu/events/eloadas-aba-novak-vilmos-festomuveszrol/
URL:https://hegyvidekgaleria.hu/events/eloadas-aba-novak-vilmos-festomuveszrol/
END:VEVENT
END:VCALENDAR