BEGIN:VCALENDAR
VERSION:2.0
PRODID:-//eventon.com NONSGML v1.0//EN
CALSCALE:GREGORIAN
METHOD:PUBLISH
BEGIN:VEVENT
UID:69e5dea9322ca
DTSTAMP:20260420T100705
DTSTART:20220430T100000Z
DTEND:20220430T130000Z
TZID:UTC
LOCATION:
SUMMARY:Kubizmus
DESCRIPTION:Családi alkotósarok Művészeti korszakok\,  stílusok gyereknyelven V. Kubizmus A “Művészeti korszakok\,  stílusok gyereknyelven” kreatív foglalkozássorozat keretében a gyerekek játszva tanulhatnak a különböző művészeti korszakokról\,  stílusokról\,  az őskori barlangrajzoktól egészen a kortárs művészetekig. A múlt század elején két francia művész\,  Georges Braque és Pablo Picasso egy teljesen formabontó irányzatot teremtett. Ez[..]\nhttps://hegyvidekgaleria.hu/events/kubizmus/
URL:https://hegyvidekgaleria.hu/events/kubizmus/
END:VEVENT
END:VCALENDAR