BEGIN:VCALENDAR
VERSION:2.0
PRODID:-//eventon.com NONSGML v1.0//EN
CALSCALE:GREGORIAN
METHOD:PUBLISH
BEGIN:VEVENT
UID:69e5f5513eddc
DTSTAMP:20260420T114345
DTSTART:20220908T180000Z
DTEND:20220908T200000Z
TZID:UTC
LOCATION:
SUMMARY:Kiállításmegnyitó | Komolyan ilyen könnyű?
DESCRIPTION:Komolyan ilyen könnyű? NAGY Gabriella festőművész kiállítása 2022. szeptember 8. – október 1. Nagy Gabriella festőművész kiállításának motívumbeli középpontjában a Prédikálószékről elénk táruló\,  folyamatosan változó táj\,  a Dunakanyar látképe áll\,  amely egyrészt szimbólumként értelmezhető\,  másrészt kulissza szerepe van\,  hátteret biztosítva mindannak\,  ami előtte látható. A festőművészt a kilátóban tapasztalt első[..]\nhttps://hegyvidekgaleria.hu/events/kiallitasmegnyito-komolyan-ilyen-konnyu/
URL:https://hegyvidekgaleria.hu/events/kiallitasmegnyito-komolyan-ilyen-konnyu/
END:VEVENT
END:VCALENDAR