BEGIN:VCALENDAR
VERSION:2.0
PRODID:-//eventon.com NONSGML v1.0//EN
CALSCALE:GREGORIAN
METHOD:PUBLISH
BEGIN:VEVENT
UID:69ea780e66c76
DTSTAMP:20260423T215038
DTSTART:20221111T190000Z
DTEND:20221111T200000Z
TZID:UTC
LOCATION:
SUMMARY:A fotótörténet nagy pillanatai
DESCRIPTION:A fotótörténet nagy pillanatai Gábor Enikő fotóművész „Fényfogások” című retrospektív kiállításának kísérőrendezvényeként Gimesy Péter a fotótörténet legjelentősebb fordulópontjait\,  technikai újításait mutatja be előadásában. A fotó a XIX. századi művészet történetének megkerülhetetlen\,  új művészeti ágaként számos változást hozott. Az előadás során az érdeklődők megismerkedhetnek a kezdetekkel\,  majd a XX. századi törekvésekkel[..]\nhttps://hegyvidekgaleria.hu/events/a-fototortenet-nagy-pillanatai/
URL:https://hegyvidekgaleria.hu/events/a-fototortenet-nagy-pillanatai/
END:VEVENT
END:VCALENDAR