BEGIN:VCALENDAR
VERSION:2.0
PRODID:-//eventon.com NONSGML v1.0//EN
CALSCALE:GREGORIAN
METHOD:PUBLISH
BEGIN:VEVENT
UID:69e79929b7bf9
DTSTAMP:20260421T173505
DTSTART:20230420T180000Z
DTEND:20230420T190000Z
TZID:UTC
LOCATION:
SUMMARY:Üres székek a művészetben
DESCRIPTION:Szemfényvesztő művészet I. | Üres székek a művészetben Művészetpszichológiai előadás-sorozat A Szemfényvesztő művészet szerzője\,  Gerevich József előadás-sorozatában egy-egy műalkotáshoz vagy alkotóhoz kapcsolódó kérdéseket tesz fel\,  és válasza nyomán felsejlik a művészet rejtett világa. Mit jelentenek Vincent van Gogh üres székei\,  és ezek a székek hogyan kapcsolódnak a Nobel-díjas költő\,  Yeats[..]\nhttps://hegyvidekgaleria.hu/events/ures-szekek-a-muveszetben/
URL:https://hegyvidekgaleria.hu/events/ures-szekek-a-muveszetben/
END:VEVENT
END:VCALENDAR