BEGIN:VCALENDAR
VERSION:2.0
PRODID:-//eventon.com NONSGML v1.0//EN
CALSCALE:GREGORIAN
METHOD:PUBLISH
BEGIN:VEVENT
UID:69e89ef3cfa61
DTSTAMP:20260422T121203
DTSTART:20230907T180000Z
DTEND:20230907T193000Z
TZID:Europe/Budapest
LOCATION:
SUMMARY:Kiállításmegnyitó
DESCRIPTION:Imaginációs gyakorlatok MAYER Éva képzőművész kiállítása 2023. szeptember 7–30. A tárlat a kiállító művész körülbelül öt évvel ezelőtt elkezdett grafika-installációinak\,  grafikai sorozatainak a folytatása és továbbgondolása. A korábbi és a legfrissebb alkotásokból válogató kiállítás olyan témákat jár körbe\,  amelyek a hittel\,  a magánszférával és a nyilvánossággal\,  a belső\,  személyes értékekkel\, [..]\nhttps://hegyvidekgaleria.hu/events/kiallitasmegnyito-6/
URL:https://hegyvidekgaleria.hu/events/kiallitasmegnyito-6/
END:VEVENT
END:VCALENDAR