BEGIN:VCALENDAR
VERSION:2.0
PRODID:-//eventon.com NONSGML v1.0//EN
CALSCALE:GREGORIAN
METHOD:PUBLISH
BEGIN:VEVENT
UID:69ebd37cead7c
DTSTAMP:20260424T223300
DTSTART:20230930T100000Z
DTEND:20230930T110000Z
TZID:Europe/Budapest
LOCATION:
SUMMARY:Tárlatvezetés
DESCRIPTION:Tárlatvezetés Mayer Éva képzőművész „Imaginációs gyakorlatok” című kiállításán A hegyvidéki Szent Mihály ünnep keretében Mayer Éva képzőművész „Imaginációs gyakorlatok” című kiállításán Kallós Judit művészettörténész mesél a tárlat koncepciójáról\,  a bemutatott alkotásokról\,  azok mondanivalójáról és az általuk felvetett kérdésekről a Hegyvidék Galériában. Időpontok: 2023. szeptember 29. (péntek) 15:00 2023. szeptember 30.[..]\nhttps://hegyvidekgaleria.hu/events/tarlatvezetes-2/
URL:https://hegyvidekgaleria.hu/events/tarlatvezetes-2/
END:VEVENT
END:VCALENDAR