BEGIN:VCALENDAR
VERSION:2.0
PRODID:-//eventon.com NONSGML v1.0//EN
CALSCALE:GREGORIAN
METHOD:PUBLISH
BEGIN:VEVENT
UID:69e5e2a21745a
DTSTAMP:20260420T102402
DTSTART:20231123T190000Z
DTEND:20231123T200000Z
TZID:Europe/Budapest
LOCATION:
SUMMARY:Paul Gauguin művészete
DESCRIPTION:Paul Gauguin művészete Művészettörténeti előadás Paul Gauguin (1848–1903) festőművész halálának 120. évfordulója alkalmából Az előadás a 120 évvel ezelőtt elhunyt Paul Gauguin (1848–1903) művészetével foglalkozik. A posztimpresszionista festő az elsők között volt\,  aki az európai művészet határain túl találta meg az inspirációt. Vándorlással teli élete során előbb Bretagne-ban alkotott\,  majd[..]\nhttps://hegyvidekgaleria.hu/events/paul-gauguin-muveszete/
URL:https://hegyvidekgaleria.hu/events/paul-gauguin-muveszete/
END:VEVENT
END:VCALENDAR