BEGIN:VCALENDAR
VERSION:2.0
PRODID:-//eventon.com NONSGML v1.0//EN
CALSCALE:GREGORIAN
METHOD:PUBLISH
BEGIN:VEVENT
UID:69e73552d03a2
DTSTAMP:20260421T102906
DTSTART:20240326T180000Z
DTEND:20240326T200000Z
TZID:UTC
LOCATION:
SUMMARY:Loving Vincent
DESCRIPTION:ARTmozi.galéria Loving Vincent angol-lengyel animációs film | 2017 | 95 perc Rendezte: Dorota Kobiela\,  Hugh Welchman A Hegyvidék Galériában 2024-ben is folytatódik a több éve elindított ARTmozi.galéria programsorozat\,  melynek keretében képzőművészeti témájú\,  képzőművészek életét feldolgozó filmek kerülnek bemutatásra. Az idei évadot március 26-án\,  kedden a Loving Vincent című 2017-es film[..]\nhttps://hegyvidekgaleria.hu/events/loving-vincent/
URL:https://hegyvidekgaleria.hu/events/loving-vincent/
END:VEVENT
END:VCALENDAR