BEGIN:VCALENDAR
VERSION:2.0
PRODID:-//eventon.com NONSGML v1.0//EN
CALSCALE:GREGORIAN
METHOD:PUBLISH
BEGIN:VEVENT
UID:69eab4ab3066a
DTSTAMP:20260424T020915
DTSTART:20241011
DTEND:20241108
TZID:UTC
LOCATION:
SUMMARY:1285\, 3 km²
DESCRIPTION:1285\, 3 km² SÓVÁRADI Valéria képzőművész és FABRICIUS Anna fotó-videóművész kiállítása 2024. október 10. – november 7. Mennyi történet\,  tapasztalás és identitásformáló keresés rejlik 1285\, 3 km²-ben? Sóváradi Valéria és Fabricius Anna a Római Magyar Akadémia ösztöndíja által hónapokat töltött Rómában. Ugyan a két anyag létrejötte közt eltelt 25 év\,  a forrás[..]\nhttps://hegyvidekgaleria.hu/events/12853-km%c2%b2/
URL:https://hegyvidekgaleria.hu/events/12853-km%c2%b2/
END:VEVENT
END:VCALENDAR