BEGIN:VCALENDAR
VERSION:2.0
PRODID:-//eventon.com NONSGML v1.0//EN
CALSCALE:GREGORIAN
METHOD:PUBLISH
BEGIN:VEVENT
UID:69e8b806a2ecb
DTSTAMP:20260422T135902
DTSTART:20241113T180000Z
DTEND:20241113T200000Z
TZID:UTC
LOCATION:
SUMMARY:Kiállításmegnyitó | A valóság határán – REGŐS István 70
DESCRIPTION:A valóság határán – REGŐS István 70 Regős István képzőművész kiállítása 2024. november 13. – december 7. „Ember nélküli rideg tájban\,  néptelen urbánus közegben válunk voyeurré Regős István képeit szemlélve” – írja Kopin Katalin művészettörténész. A képzőművész szürrealista hangulatú\,  naiv-expresszív\,  abszurd-groteszk és pop-art elemeket ötvöz\,  historikus-eklektikus nosztalgiát idéz\,  de a[..]\nhttps://hegyvidekgaleria.hu/events/kiallitasmegnyito-a-valosag-hataran-regos-istvan-70/
URL:https://hegyvidekgaleria.hu/events/kiallitasmegnyito-a-valosag-hataran-regos-istvan-70/
END:VEVENT
END:VCALENDAR