BEGIN:VCALENDAR
VERSION:2.0
PRODID:-//eventon.com NONSGML v1.0//EN
CALSCALE:GREGORIAN
METHOD:PUBLISH
BEGIN:VEVENT
UID:69e5f520ad46e
DTSTAMP:20260420T114256
DTSTART:20241121T180000Z
DTEND:20241121T190000Z
TZID:UTC
LOCATION:
SUMMARY:Gyűjtsd a kortárst! – Dr. Kacsuk Péter
DESCRIPTION:Gyűjtsd a kortárst! – Dr. Kacsuk Péter Beszélgetéssorozat műgyűjtőkkel II. A Hegyvidék Galéria új programsorozata során neves hazai műgyűjtőkkel és kollekciójukkal ismerkedhetnek meg az érdeklődők. A művészettörténészek által moderált beszélgetések során a résztvevők beleláthatnak abba\,  hogyan válik valakiből műgyűjtő\,  illetve\,  hogy ki miért\,  milyen gondolatok\,  motivációk és stratégiák mentén\,  valamint[..]\nhttps://hegyvidekgaleria.hu/events/gyujtsd-a-kortarst-dr-kacsuk-peter/
URL:https://hegyvidekgaleria.hu/events/gyujtsd-a-kortarst-dr-kacsuk-peter/
END:VEVENT
END:VCALENDAR