BEGIN:VCALENDAR
VERSION:2.0
PRODID:-//eventon.com NONSGML v1.0//EN
CALSCALE:GREGORIAN
METHOD:PUBLISH
BEGIN:VEVENT
UID:69e5c7c610797
DTSTAMP:20260420T082926
DTSTART:20250312T170000Z
DTEND:20250312T180000Z
TZID:Africa/Abidjan
LOCATION:
SUMMARY:Könyvbemutató | Nagy Angela: Hajós Alfréd sportember és műépítész
DESCRIPTION:Könyvbemutató | Nagy Angela: Hajós Alfréd sportember és műépítész Budapesti Városvédő Egyesület A Budapesti Városvédő Egyesület XII. kerületi csoportja szeretettel várja az érdeklődőket Nagy Angela „Hajós Alfréd sportember és műépítész” című könyvének bemutatójára. A nemrégiben megjelent kötet a szerző unokatestvérének\,  Nagy Lászlónak gondozásában nyerte el végső formáját. A szerző\,  Nagy[..]\nhttps://hegyvidekgaleria.hu/events/konyvbemutato-nagy-angela-hajos-alfred-sportember-es-muepitesz/
URL:https://hegyvidekgaleria.hu/events/konyvbemutato-nagy-angela-hajos-alfred-sportember-es-muepitesz/
END:VEVENT
END:VCALENDAR