BEGIN:VCALENDAR
VERSION:2.0
PRODID:-//eventon.com NONSGML v1.0//EN
CALSCALE:GREGORIAN
METHOD:PUBLISH
BEGIN:VEVENT
UID:69ed58f5f2fe6
DTSTAMP:20260426T021445
DTSTART:20250509T183000Z
DTEND:20250509T193000Z
TZID:UTC
LOCATION:
SUMMARY:A nagybányai festők művészete
DESCRIPTION:Nagy mesterek\,  életművek X. | A nagybányai festők művészete Gimesy Péter 2024-ben indult művészettörténeti előadás-sorozatában a legismertebb festők életművével foglalkozik. Olyan mesterek művészetével ismerkedhetnek meg az érdeklődők\,  akik hatással voltak már saját korszakukra is\,  és hírnevük a mai napig fennmaradt. Az előadó a hagyományos művészettörténeti korszakok jelentősebb alkotóinak\,  leghíresebb műveinek[..]\nhttps://hegyvidekgaleria.hu/events/a-nagybanyai-festok-muveszete/
URL:https://hegyvidekgaleria.hu/events/a-nagybanyai-festok-muveszete/
END:VEVENT
END:VCALENDAR