BEGIN:VCALENDAR
VERSION:2.0
PRODID:-//eventon.com NONSGML v1.0//EN
CALSCALE:GREGORIAN
METHOD:PUBLISH
BEGIN:VEVENT
UID:69e6a87450bf7
DTSTAMP:20260421T002804
DTSTART:20260128T180000Z
DTEND:20260128T190000Z
TZID:UTC
LOCATION:
SUMMARY:Mozgás\,  természeti erő és absztrakció: Reigl Judit és Hantai Simon
DESCRIPTION:Magyar művészet 1945 után | Művészettörténeti előadás-sorozat V. Mozgás\,  természeti erő és absztrakció: Reigl Judit és Hantai Simon A Hegyvidék Galéria 2025-ben indult új előadás-sorozata az 1945 utáni magyar képzőművészettel foglalkozik napjainkig\,  bemutatva a különböző irányzatokat és művészetfelfogásokat\,  az adott témát kutató szakemberek\,  művészettörténészek által. Dr. Mészáros Flóra januári első[..]\nhttps://hegyvidekgaleria.hu/events/mozgas-termeszeti-ero-es-absztrakcio-reigl-judit-es-hantai-simon/
URL:https://hegyvidekgaleria.hu/events/mozgas-termeszeti-ero-es-absztrakcio-reigl-judit-es-hantai-simon/
END:VEVENT
END:VCALENDAR