BEGIN:VCALENDAR
VERSION:2.0
PRODID:-//eventon.com NONSGML v1.0//EN
CALSCALE:GREGORIAN
METHOD:PUBLISH
BEGIN:VEVENT
UID:69e6a9b5de024
DTSTAMP:20260421T003325
DTSTART:20260124T100000Z
DTEND:20260124T113000Z
TZID:UTC
LOCATION:
SUMMARY:Színek suhanása
DESCRIPTION:Színek suhanása Családi alkotósarok az Együtt című kiállításhoz kapcsolódóan Tudtad\,  hogy vannak lopakodó\,  kúszó és mászó\,  fel-felbukkanó\,  harsány és kiabáló\,  no meg visszafogott\,  szerényen meghúzódó\,  megértő meleg és hideg színek? Makkai Márta textilművész és lánya\,  Makkai-Kovács Beatrix festőművész kiállításához kapcsolódó múzeumpedagógiai foglalkozáson a tárlaton látható művek hangulatából és képi világából[..]\nhttps://hegyvidekgaleria.hu/events/szinek-suhanasa/
URL:https://hegyvidekgaleria.hu/events/szinek-suhanasa/
END:VEVENT
END:VCALENDAR