BEGIN:VCALENDAR
VERSION:2.0
PRODID:-//eventon.com NONSGML v1.0//EN
CALSCALE:GREGORIAN
METHOD:PUBLISH
BEGIN:VEVENT
UID:69e6a889c0c25
DTSTAMP:20260421T002825
DTSTART:20260327T180000Z
DTEND:20260327T200000Z
TZID:UTC
LOCATION:
SUMMARY:Alain Resnais: Tavaly Marienbadban (1961)
DESCRIPTION:Alain Resnais: Tavaly Marienbadban (1961) Szürrealista filmtörténeti előadás-sorozat VI. Gimesy Péter 2025 őszén indult új filmtörténeti/művészettörténeti előadás-sorozata a film és az avantgárd stílusok kapcsolatát tárja fel izgalmas és ritkán látható filmek bemutatásával\,  azokból kiindulva. Alan Resnais „Tavaly Marienbadban” című művének egyik központi motívuma a labirintusban való bolyongás. A mindenkori útvesztőben[..]\nhttps://hegyvidekgaleria.hu/events/alain-resnais-tavaly-marienbadban-1961/
URL:https://hegyvidekgaleria.hu/events/alain-resnais-tavaly-marienbadban-1961/
END:VEVENT
END:VCALENDAR