BEGIN:VCALENDAR
VERSION:2.0
PRODID:-//eventon.com NONSGML v1.0//EN
CALSCALE:GREGORIAN
METHOD:PUBLISH
BEGIN:VEVENT
UID:69e6d992d7048
DTSTAMP:20260421T035738
DTSTART:20260429T180000Z
DTEND:20260429T200000Z
TZID:UTC
LOCATION:
SUMMARY:Kiállításmegnyitó | Táj-lenyomatok
DESCRIPTION:TÁJ-LENYOMATOK JÓNÁS Péter grafikus-képzőművész kiállítása 2026. április 29. – május 28. Jónás Péter grafikus-képzőművész művészetének középpontjában a személyes élmények vizuális leképezése áll: gyakran az épített környezet hétköznapi\,  sokszor észrevétlen részleteiből indul ki\,  amelyeket redukált\,  konstruktív formákká alakít. Alkotói módszerére jellemző a sorozatokban való gondolkodás\,  amely lehetővé teszi egy-egy motívum variációinak[..]\nhttps://hegyvidekgaleria.hu/events/kiallitasmegnyito-taj-lenyomatok/
URL:https://hegyvidekgaleria.hu/events/kiallitasmegnyito-taj-lenyomatok/
END:VEVENT
END:VCALENDAR